BEGIN:VCALENDAR
VERSION:2.0
PRODID:-//Power Productions - ECPv4.9.9//NONSGML v1.0//EN
CALSCALE:GREGORIAN
METHOD:PUBLISH
X-WR-CALNAME:Power Productions
X-ORIGINAL-URL:https://www.powerproductions.net.au
X-WR-CALDESC:Events for Power Productions
BEGIN:VTIMEZONE
TZID:Australia/Sydney
BEGIN:STANDARD
TZOFFSETFROM:+1100
TZOFFSETTO:+1000
TZNAME:AEST
DTSTART:20200404T160000
END:STANDARD
BEGIN:DAYLIGHT
TZOFFSETFROM:+1000
TZOFFSETTO:+1100
TZNAME:AEDT
DTSTART:20201003T160000
END:DAYLIGHT
END:VTIMEZONE
BEGIN:VEVENT
DTSTART;VALUE=DATE:20200113
DTEND;VALUE=DATE:20200114
DTSTAMP:20200228T154350
CREATED:20200107T001925Z
LAST-MODIFIED:20200107T001925Z
UID:2352-1578873600-1578959999@www.powerproductions.net.au
SUMMARY:Newcastle Harness Racing 
DESCRIPTION:
URL:https://www.powerproductions.net.au/event/newcastle-harness-racing-2/
CATEGORIES:Newcastle Harness
ATTACH;FMTTYPE=image/jpeg:https://www.powerproductions.net.au/wp-content/uploads/2020/01/power-productions-banner-small-4.jpg
END:VEVENT
END:VCALENDAR